BEGIN:VCALENDAR
VERSION:2.0
PRODID:SchoolNow
CALSCALE:GREGORIAN
BEGIN:VEVENT
UID:1b09b28a-53ca-11e8-b347-0a5048f93e42
DTSTAMP:20180509T204653Z
SUMMARY:What to expect next year at KES
URL;VALUE=URI:https://www.keystonelocalschools.org/keystone-elementary-scho
 ol/calendar/1775987/what-to-expect-next-year-at-kes
DTSTART:20180514T220000Z
DTEND:20180515T000000Z
END:VEVENT
END:VCALENDAR
