BEGIN:VCALENDAR
VERSION:2.0
PRODID:SchoolNow
CALSCALE:GREGORIAN
BEGIN:VEVENT
UID:dffe1dc0-53c9-11e8-a14c-0a5048f93e42
DTSTAMP:20180509T204514Z
SUMMARY:Scholastic Book Fair
URL;VALUE=URI:https://www.keystonelocalschools.org/keystone-elementary-scho
 ol/calendar/1775986/scholastic-book-fair
DTSTART:20180511T160000Z
DTEND:20180518T160000Z
END:VEVENT
END:VCALENDAR
