BEGIN:VCALENDAR
VERSION:2.0
PRODID:SchoolNow
CALSCALE:GREGORIAN
BEGIN:VEVENT
UID:4c330af0-3ed1-11f1-897d-0ebc1c1e1d83
DTSTAMP:20260423T110508Z
SUMMARY:KHS Academic Awards
URL;VALUE=URI:https://www.keystonelocalschools.org/about/calendar/9012772/k
 hs-academic-awards
DTSTART:20260515T161500Z
DTEND:20260515T170000Z
END:VEVENT
END:VCALENDAR
