BEGIN:VCALENDAR
VERSION:2.0
PRODID:SchoolNow
CALSCALE:GREGORIAN
BEGIN:VEVENT
UID:18e48492-0972-11f1-bf0a-0a58a9feac02
DTSTAMP:20260422T104507Z
SUMMARY:KHS Prom
URL;VALUE=URI:https://www.keystonelocalschools.org/about/calendar/8855768/k
 hs-prom
DTSTART:20260425T220000Z
DTEND:20260426T030000Z
END:VEVENT
END:VCALENDAR
